BEGIN:VCALENDAR
VERSION:2.0
PRODID:-//Vibrissa Beer - ECPv6.15.20//NONSGML v1.0//EN
CALSCALE:GREGORIAN
METHOD:PUBLISH
X-ORIGINAL-URL:https://vibrissabeer.com
X-WR-CALDESC:Events for Vibrissa Beer
REFRESH-INTERVAL;VALUE=DURATION:PT1H
X-Robots-Tag:noindex
X-PUBLISHED-TTL:PT1H
BEGIN:VTIMEZONE
TZID:UTC
BEGIN:STANDARD
TZOFFSETFROM:+0000
TZOFFSETTO:+0000
TZNAME:UTC
DTSTART:20220101T000000
END:STANDARD
END:VTIMEZONE
BEGIN:VEVENT
DTSTART;TZID=UTC:20230901T200000
DTEND;TZID=UTC:20230901T220000
DTSTAMP:20260421T191007
CREATED:20230814T173256Z
LAST-MODIFIED:20230814T173256Z
UID:10000477-1693598400-1693605600@vibrissabeer.com
SUMMARY:Live Music Front Royal - Katie & Kelly
DESCRIPTION:Katie and Kelly\, are a Sister-Duo from the foothills of the Blue Ridge Mountains. Together\, they create visual and meaningful music with sweeping blood-harmonies and powerful lyrics. The Americana Roots singers’ have an EP\, In the Middle\, which brings light to the parts of ourselves that need to be seen and heard. With a decade of collective time on stage\, and a lifetime of sisterhood\, they bring the medicine of music to those around them each time they step to the stage.
URL:https://vibrissabeer.com/event/live-music-front-royal-katie-kelly-2/
LOCATION:Vibrissa Beer Front Royal\, 122 East Main Street\, Front Royal\, VA\, 22630\, United States
CATEGORIES:Front Royal
ATTACH;FMTTYPE=image/png:https://vibrissabeer.com/wp-content/uploads/2023/03/Screenshot-39.png
ORGANIZER;CN="Vibrissa Beer":MAILTO:info@vibrissabeer.com
END:VEVENT
BEGIN:VEVENT
DTSTART;TZID=UTC:20230902T200000
DTEND;TZID=UTC:20230902T220000
DTSTAMP:20260421T191007
CREATED:20230814T175509Z
LAST-MODIFIED:20230814T175509Z
UID:10000478-1693684800-1693692000@vibrissabeer.com
SUMMARY:Live Music Winchester - Seth Reid
DESCRIPTION:Check out Seth Reid! A Country Music artist bringing his music to thousands of fans across the country. This Oklahoma Native and Chart Topping Texas Musician continues to bring in fans and impress with every performance. Seth Has played Major Venues From Pennsylvania to Texas. He has a great fan & interactive base and looks forward to bringing his fan base to Vibrissa! 
URL:https://vibrissabeer.com/event/live-music-winchester-seth-reid/
LOCATION:Vibrissa Beer Winchester\, 10 North Kent Street\, Winchester\, VA\, 22601\, United States
CATEGORIES:Winchester
ATTACH;FMTTYPE=image/jpeg:https://vibrissabeer.com/wp-content/uploads/2023/08/sethreid.jpg
ORGANIZER;CN="Vibrissa Beer":MAILTO:info@vibrissabeer.com
END:VEVENT
BEGIN:VEVENT
DTSTART;TZID=UTC:20230908T200000
DTEND;TZID=UTC:20230908T220000
DTSTAMP:20260421T191007
CREATED:20230814T182341Z
LAST-MODIFIED:20230901T142811Z
UID:10000479-1694203200-1694210400@vibrissabeer.com
SUMMARY:Live Music Winchester - Night Routine
DESCRIPTION:Born out of garage jam sessions in Denver\, CO – Steve Marz (keys/vox) and Tomas Houser (guitar) started Night Routine in March of 2021 hitting it off and very quickly producing a deep catalogue of music rooted in both personal and worldly reflections. In November of 2021\, they added Marcos Hudson (Bass) and Matthew Meloney (Drums)\, defining the band’s studio sound. While deeply committed to its core cast of musicians\, Night Routine recognizes the power and camaraderie of a revolving cast of both friends and musicians to its live performances. In summer of 2023\, at the onset of their second annual Virginia tour\, the group added the likes of local Virginians Jackson Cain (Bass) and Addison Barber (Saxophone)\, and Josh Neitzel (Drums) to create a truly remarkable live sound that embodies just that – ‘A fivesome of fierce friends jamming out’. Having toured both Colorado and beyond\, the band has frequented Colorado staples such as Cervantes Masterpiece and 10 Mile Music Hall. The band has deep roots in Virginia with Tomas Houser\, Addison Barber\, and Jackson Cain all hailing from Winchester\, Virginia. These ‘Sons of Winchester’ & friends are ready to bring the funk\, pop\, soul\, and fire of good ol’ Frederick County!
URL:https://vibrissabeer.com/event/live-music-winchester-night-routine/
LOCATION:Vibrissa Beer Winchester\, 10 North Kent Street\, Winchester\, VA\, 22601\, United States
CATEGORIES:Winchester
ATTACH;FMTTYPE=image/jpeg:https://vibrissabeer.com/wp-content/uploads/2023/08/nightroutine.jpg
ORGANIZER;CN="Vibrissa Beer":MAILTO:info@vibrissabeer.com
END:VEVENT
BEGIN:VEVENT
DTSTART;TZID=UTC:20230909T200000
DTEND;TZID=UTC:20230909T220000
DTSTAMP:20260421T191007
CREATED:20230814T183810Z
LAST-MODIFIED:20230814T183810Z
UID:10000480-1694289600-1694296800@vibrissabeer.com
SUMMARY:Live Music Front Royal - The Dan James Band
DESCRIPTION:The Dan James Band is a four-piece alternative-folk-rock group hailing from Front Royal\, VA consisting of Max Bieryla (drums)\, Brian Mathias (bass)\, Collin Finnell (lead guitar)\, and of course\, singer-songwriter Dan James. Their blend of soulful vocals\, introspective lyrics\, and groovy instrumentation create an inviting atmosphere\, mirroring the environment of the Shenandoah Valley that they call home. DJB has a substantial catalog of original tunes and covers including classic country\, folk\, rock and R&B hits. 
URL:https://vibrissabeer.com/event/live-music-front-royal-the-dan-james-band/
LOCATION:Vibrissa Beer Front Royal\, 122 East Main Street\, Front Royal\, VA\, 22630\, United States
CATEGORIES:Front Royal
ATTACH;FMTTYPE=image/jpeg:https://vibrissabeer.com/wp-content/uploads/2023/08/thedanjamesband.jpg
ORGANIZER;CN="Vibrissa Beer":MAILTO:info@vibrissabeer.com
END:VEVENT
BEGIN:VEVENT
DTSTART;TZID=UTC:20230915T200000
DTEND;TZID=UTC:20230915T220000
DTSTAMP:20260421T191007
CREATED:20230814T190021Z
LAST-MODIFIED:20230814T190021Z
UID:10000481-1694808000-1694815200@vibrissabeer.com
SUMMARY:Live Music Front Royal - Melanie Pearl
DESCRIPTION:Melanie Pearl is a solo act who has played across the Shenandoah Valley for the past 8 years with her keyboard\, ukulele\, and mic in tow. She has a deep passion for music and thoroughly enjoys connecting with audiences and curtailing her set to their requests. She describe her set as “popular hits throughout the decades” as she performs hit songs from artists like Janis Joplin\, Dolly Parton\, Amy Winehouse\, Adele\, and many others.
URL:https://vibrissabeer.com/event/live-music-front-royal-melanie-pearl-3/
LOCATION:Vibrissa Beer Front Royal\, 122 East Main Street\, Front Royal\, VA\, 22630\, United States
CATEGORIES:Front Royal
ATTACH;FMTTYPE=image/jpeg:https://vibrissabeer.com/wp-content/uploads/2022/12/melaniepearlmusic.jpg
ORGANIZER;CN="Vibrissa Beer":MAILTO:info@vibrissabeer.com
END:VEVENT
BEGIN:VEVENT
DTSTART;TZID=UTC:20230916T200000
DTEND;TZID=UTC:20230916T220000
DTSTAMP:20260421T191007
CREATED:20230814T193003Z
LAST-MODIFIED:20230814T193003Z
UID:10000482-1694894400-1694901600@vibrissabeer.com
SUMMARY:Live Music Winchester - Bottle Shock
DESCRIPTION:Bottle Shock is a rock band made up of four talented musicians from Winchester\, Virginia that play music from the 70’s and beyond.  They play a mix of classic rock favorites\, blues\, funk and disco during their high energy sets.  Their covers include keyboard and guitar driven staples from The Doobie Brothers\, Journey\, Tom Petty\, Foreigner and Peter Gabriel to name a few.
URL:https://vibrissabeer.com/event/live-music-winchester-bottle-shock/
LOCATION:Vibrissa Beer Winchester\, 10 North Kent Street\, Winchester\, VA\, 22601\, United States
CATEGORIES:Winchester
ATTACH;FMTTYPE=image/jpeg:https://vibrissabeer.com/wp-content/uploads/2023/08/bottleshock.jpg
ORGANIZER;CN="Vibrissa Beer":MAILTO:info@vibrissabeer.com
END:VEVENT
END:VCALENDAR