BEGIN:VCALENDAR
VERSION:2.0
PRODID:-//Vibrissa Beer - ECPv6.15.20//NONSGML v1.0//EN
CALSCALE:GREGORIAN
METHOD:PUBLISH
X-WR-CALNAME:Vibrissa Beer
X-ORIGINAL-URL:https://vibrissabeer.com
X-WR-CALDESC:Events for Vibrissa Beer
REFRESH-INTERVAL;VALUE=DURATION:PT1H
X-Robots-Tag:noindex
X-PUBLISHED-TTL:PT1H
BEGIN:VTIMEZONE
TZID:UTC
BEGIN:STANDARD
TZOFFSETFROM:+0000
TZOFFSETTO:+0000
TZNAME:UTC
DTSTART:20220101T000000
END:STANDARD
END:VTIMEZONE
BEGIN:VEVENT
DTSTART;TZID=UTC:20230707T200000
DTEND;TZID=UTC:20230707T220000
DTSTAMP:20260421T162104
CREATED:20230620T144237Z
LAST-MODIFIED:20230620T144237Z
UID:10000462-1688760000-1688767200@vibrissabeer.com
SUMMARY:Live Music Winchester - Dylan Woelfel
DESCRIPTION:Dylan Woelfel is an independent artist from Boyce\, VA. He’s been playing the surrounding area for 15 years. Known for playing Outlaw\, Country\, Rock\, Fold\, and Original Songs.
URL:https://vibrissabeer.com/event/live-music-winchester-dylan-woelfel/
LOCATION:Vibrissa Beer Winchester\, 10 North Kent Street\, Winchester\, VA\, 22601\, United States
CATEGORIES:Winchester
ATTACH;FMTTYPE=image/jpeg:https://vibrissabeer.com/wp-content/uploads/2023/06/dylanwoelfel.jpg
ORGANIZER;CN="Vibrissa Beer":MAILTO:info@vibrissabeer.com
END:VEVENT
BEGIN:VEVENT
DTSTART;TZID=UTC:20230708T200000
DTEND;TZID=UTC:20230708T220000
DTSTAMP:20260421T162104
CREATED:20230620T145721Z
LAST-MODIFIED:20230620T145721Z
UID:10000463-1688846400-1688853600@vibrissabeer.com
SUMMARY:Live Music Front Royal - The Fly Birds
DESCRIPTION:“Free range mountain sirens. Personal\, passionate\, petulant\, praising; longing\, losing\, lamenting\, lazing; crowing\, crooning\, caring and craving… it’s all there when The Fly Birds perform.”  \n  \nThe Fly Birds are an award winning musical embodiment of Alternative Bluegrass & Appalachia based out of Winchester\, Virginia. They’ve migrated the music industry for 7 years\, their voices and melodies soaring to new heights together. This unique and original band is comprised of Elizabeth Baker on banjo\, Mary Dunlap on bass\, Sarah Twigg on guitar and Crystal Shipley on fiddle. They released their first full length original album “The Band is Causing Problems” in 2020 and just released their second album “The Band is Playing Covers.” Together they make a memorable sound certain to make you tap your feet and sing along! 
URL:https://vibrissabeer.com/event/live-music-front-royal-the-fly-birds/
LOCATION:Vibrissa Beer Front Royal\, 122 East Main Street\, Front Royal\, VA\, 22630\, United States
CATEGORIES:Front Royal
ATTACH;FMTTYPE=image/png:https://vibrissabeer.com/wp-content/uploads/2023/06/flybirds.png
ORGANIZER;CN="Vibrissa Beer":MAILTO:info@vibrissabeer.com
END:VEVENT
BEGIN:VEVENT
DTSTART;TZID=UTC:20230714T200000
DTEND;TZID=UTC:20230714T220000
DTSTAMP:20260421T162104
CREATED:20230620T150717Z
LAST-MODIFIED:20230620T150717Z
UID:10000464-1689364800-1689372000@vibrissabeer.com
SUMMARY:Live Music Front Royal - Fountains
DESCRIPTION:Fountains band plays both originals and a curated list of covers from artists like the Beatles\, Fleet Foxes\, Steve Winwood\, Foo Fighters\, Kings of Leon and many more. Sean (vocals/guitar/keyboard)\, Chris (bass)\, and Blayne Laures (drums).
URL:https://vibrissabeer.com/event/live-music-front-royal-fountains-3/
LOCATION:Vibrissa Beer Front Royal\, 122 East Main Street\, Front Royal\, VA\, 22630\, United States
CATEGORIES:Front Royal
ATTACH;FMTTYPE=image/jpeg:https://vibrissabeer.com/wp-content/uploads/2022/12/Fountains.jpg
ORGANIZER;CN="Vibrissa Beer":MAILTO:info@vibrissabeer.com
END:VEVENT
BEGIN:VEVENT
DTSTART;TZID=UTC:20230715T200000
DTEND;TZID=UTC:20230715T220000
DTSTAMP:20260421T162104
CREATED:20230620T151151Z
LAST-MODIFIED:20230620T151151Z
UID:10000465-1689451200-1689458400@vibrissabeer.com
SUMMARY:Live Music Winchester - Katie & Kelly
DESCRIPTION:Katie and Kelly\, are a Sister-Duo from the foothills of the Blue Ridge Mountains. Together\, they create visual and meaningful music with sweeping blood-harmonies and powerful lyrics. The Americana Roots singers’ have an EP\, In the Middle\, which brings light to the parts of ourselves that need to be seen and heard. With a decade of collective time on stage\, and a lifetime of sisterhood\, they bring the medicine of music to those around them each time they step to the stage.
URL:https://vibrissabeer.com/event/live-music-winchester-katie-kelly-2/
LOCATION:Vibrissa Beer Winchester\, 10 North Kent Street\, Winchester\, VA\, 22601\, United States
CATEGORIES:Winchester
ATTACH;FMTTYPE=image/png:https://vibrissabeer.com/wp-content/uploads/2023/03/Screenshot-39.png
ORGANIZER;CN="Vibrissa Beer":MAILTO:info@vibrissabeer.com
END:VEVENT
BEGIN:VEVENT
DTSTART;TZID=UTC:20230721T200000
DTEND;TZID=UTC:20230721T230000
DTSTAMP:20260421T162104
CREATED:20230620T151950Z
LAST-MODIFIED:20230620T152339Z
UID:10000466-1689969600-1689980400@vibrissabeer.com
SUMMARY:Live Music Winchester - Fork in the Road
DESCRIPTION:Fork In The Road is a country rock band based in Northern Virginia.  They lean towards a southern rock and alt-country sound.  They play a variety of rock and country tunes with a unique blend of vocal harmonies.  The band covers recent songs from Chris Stapleton\, Whiskey Myers and Tyler Childers\, as well as classic songs from The Eagles\, Tom Petty\, Lynyrd Skynyrd and Marshall Tucker Band to name a few.  Fork in the Road also play original songs written by members of the band.
URL:https://vibrissabeer.com/event/live-music-winchester-fork-in-the-road-2/
LOCATION:Vibrissa Beer Winchester\, 10 North Kent Street\, Winchester\, VA\, 22601\, United States
CATEGORIES:Winchester
ATTACH;FMTTYPE=image/png:https://vibrissabeer.com/wp-content/uploads/2022/12/forkintheroadmusic.png
ORGANIZER;CN="Vibrissa Beer":MAILTO:info@vibrissabeer.com
END:VEVENT
BEGIN:VEVENT
DTSTART;TZID=UTC:20230722T190000
DTEND;TZID=UTC:20230722T210000
DTSTAMP:20260421T162104
CREATED:20230620T154307Z
LAST-MODIFIED:20230620T154307Z
UID:10000467-1690052400-1690059600@vibrissabeer.com
SUMMARY:Live Music Front Royal - Brennan Edwards
DESCRIPTION:Brennan is a local musician from the Shenandoah Valley. Playing a variety of genres from bluegrass\, folk\, alternative\, and more. Some of his artist influencers include Tyler Childers\, Hank Williams\, Red Hot Chili Peppers and so many more! Brennan is making his way in the surrounding area as he was recently nominated in the Winchester Star for ‘Best Local Music Performer” amongst other great artists in the area.
URL:https://vibrissabeer.com/event/live-music-front-royal-brennan-edwards-2/
LOCATION:Vibrissa Beer Front Royal\, 122 East Main Street\, Front Royal\, VA\, 22630\, United States
CATEGORIES:Front Royal
ATTACH;FMTTYPE=image/jpeg:https://vibrissabeer.com/wp-content/uploads/2023/05/brennanedwardsacousticphoto.jpg
ORGANIZER;CN="Vibrissa Beer":MAILTO:info@vibrissabeer.com
END:VEVENT
BEGIN:VEVENT
DTSTART;TZID=UTC:20230728T200000
DTEND;TZID=UTC:20230728T220000
DTSTAMP:20260421T162104
CREATED:20230620T154801Z
LAST-MODIFIED:20230620T154801Z
UID:10000468-1690574400-1690581600@vibrissabeer.com
SUMMARY:Live Music Front Royal - Melanie Pearl
DESCRIPTION:Melanie Pearl is a solo act who has played across the Shenandoah Valley for the past 8 years with her keyboard\, ukulele\, and mic in tow. She has a deep passion for music and thoroughly enjoys connecting with audiences and curtailing her set to their requests. She describe her set as “popular hits throughout the decades” as she performs hit songs from artists like Janis Joplin\, Dolly Parton\, Amy Winehouse\, Adele\, and many others.
URL:https://vibrissabeer.com/event/live-music-front-royal-melanie-pearl-2/
LOCATION:Vibrissa Beer Front Royal\, 122 East Main Street\, Front Royal\, VA\, 22630\, United States
CATEGORIES:Front Royal
ATTACH;FMTTYPE=image/jpeg:https://vibrissabeer.com/wp-content/uploads/2022/12/melaniepearlmusic.jpg
ORGANIZER;CN="Vibrissa Beer":MAILTO:info@vibrissabeer.com
END:VEVENT
BEGIN:VEVENT
DTSTART;TZID=UTC:20230729T200000
DTEND;TZID=UTC:20230729T220000
DTSTAMP:20260421T162104
CREATED:20230620T155358Z
LAST-MODIFIED:20230620T155358Z
UID:10000469-1690660800-1690668000@vibrissabeer.com
SUMMARY:Live Music Winchester - Jon Mitchem
DESCRIPTION:Jonathan Mitchem\, an American Singer-Songwriter from Alexandria\, VA\, began his musical journey as a drummer\, but he’s since become an accomplished guitarist and singer. His songwriting\, a style deeply rooted in his heritage traced back to the hills of Welch\, West Virginia\, is comprised of intricate melodies and lyrics that harken back to a time where music was pulled from hardship and life experience. He’s played venues that have been graced by notable names like Zac Brown\, Keith Urban\, Journey\, Steve Miller Band\, and Dave Matthews.
URL:https://vibrissabeer.com/event/live-music-winchester-jon-mitchem/
LOCATION:Vibrissa Beer Winchester\, 10 North Kent Street\, Winchester\, VA\, 22601\, United States
CATEGORIES:Winchester
ATTACH;FMTTYPE=image/jpeg:https://vibrissabeer.com/wp-content/uploads/2023/02/162788445_122905106509401_6357960347326232712_n.jpg
ORGANIZER;CN="Vibrissa Beer":MAILTO:info@vibrissabeer.com
END:VEVENT
END:VCALENDAR