BEGIN:VCALENDAR
VERSION:2.0
PRODID:-//Vibrissa Beer - ECPv6.15.20//NONSGML v1.0//EN
CALSCALE:GREGORIAN
METHOD:PUBLISH
X-WR-CALNAME:Vibrissa Beer
X-ORIGINAL-URL:https://vibrissabeer.com
X-WR-CALDESC:Events for Vibrissa Beer
REFRESH-INTERVAL;VALUE=DURATION:PT1H
X-Robots-Tag:noindex
X-PUBLISHED-TTL:PT1H
BEGIN:VTIMEZONE
TZID:UTC
BEGIN:STANDARD
TZOFFSETFROM:+0000
TZOFFSETTO:+0000
TZNAME:UTC
DTSTART:20220101T000000
END:STANDARD
END:VTIMEZONE
BEGIN:VEVENT
DTSTART;TZID=UTC:20230120T200000
DTEND;TZID=UTC:20230120T220000
DTSTAMP:20260421T103041
CREATED:20221227T203205Z
LAST-MODIFIED:20230102T201522Z
UID:10000412-1674244800-1674252000@vibrissabeer.com
SUMMARY:Live Music Winchester - Lindsey Hirshfield
DESCRIPTION:Lindsey is a Virginia-based singer-songwriter who offers up an array of compelling Americana songs. Her Americana style has been inspired by classic folk melodies and current Americana artists such as Brandi Carlile and the Lumineers.
URL:https://vibrissabeer.com/event/live-music-winchester-lindsey-hirshfield/
LOCATION:Vibrissa Beer Winchester\, 10 North Kent Street\, Winchester\, VA\, 22601\, United States
CATEGORIES:Winchester
ATTACH;FMTTYPE=image/jpeg:https://vibrissabeer.com/wp-content/uploads/2022/12/lindseyhirshfieldmusic.jpg
ORGANIZER;CN="Vibrissa Beer":MAILTO:info@vibrissabeer.com
END:VEVENT
END:VCALENDAR