BEGIN:VCALENDAR
VERSION:2.0
PRODID:-//Vibrissa Beer - ECPv6.15.20//NONSGML v1.0//EN
CALSCALE:GREGORIAN
METHOD:PUBLISH
X-ORIGINAL-URL:https://vibrissabeer.com
X-WR-CALDESC:Events for Vibrissa Beer
REFRESH-INTERVAL;VALUE=DURATION:PT1H
X-Robots-Tag:noindex
X-PUBLISHED-TTL:PT1H
BEGIN:VTIMEZONE
TZID:UTC
BEGIN:STANDARD
TZOFFSETFROM:+0000
TZOFFSETTO:+0000
TZNAME:UTC
DTSTART:20230101T000000
END:STANDARD
END:VTIMEZONE
BEGIN:VEVENT
DTSTART;TZID=UTC:20240127T190000
DTEND;TZID=UTC:20240127T210000
DTSTAMP:20260422T015930
CREATED:20240115T170036Z
LAST-MODIFIED:20240115T170036Z
UID:10000505-1706382000-1706389200@vibrissabeer.com
SUMMARY:Live Music Front Royal - Ryan Thomas Band
DESCRIPTION:Ryan Thomas is a local singer-songwriter who has been active in the Winchester-area performing community for several years and was the vocalist for the Apple Blossom’s Got Talent Contest winner in 2019. Along with his all-new band\, they bring an eclectic blend of rock\, country & blues\, creating a diverse and well-rounded sound.
URL:https://vibrissabeer.com/event/live-music-front-royal-ryan-thomas-band-2/
LOCATION:Vibrissa Beer Front Royal\, 122 East Main Street\, Front Royal\, VA\, 22630\, United States
CATEGORIES:Front Royal
ATTACH;FMTTYPE=image/jpeg:https://vibrissabeer.com/wp-content/uploads/2022/12/ryanthomasband.jpg
ORGANIZER;CN="Vibrissa Beer":MAILTO:info@vibrissabeer.com
END:VEVENT
BEGIN:VEVENT
DTSTART;TZID=UTC:20240427T190000
DTEND;TZID=UTC:20240427T210000
DTSTAMP:20260422T015930
CREATED:20240109T174127Z
LAST-MODIFIED:20240415T150828Z
UID:10000503-1714244400-1714251600@vibrissabeer.com
SUMMARY:Live Music Front Royal - The Fly Birds
DESCRIPTION:“Free range mountain sirens. Personal\, passionate\, petulant\, praising; longing\, losing\, lamenting\, lazing; crowing\, crooning\, caring and craving… it’s all there when The Fly Birds perform.”\nThe Fly Birds are an award winning musical embodiment of Alternative Bluegrass & Appalachia based out of Winchester\, Virginia. They’ve migrated the music industry for 7 years\, their voices and melodies soaring to new heights together. This unique and original band is comprised of Elizabeth Baker on banjo\, Mary Dunlap on bass\, Sarah Twigg on guitar and Crystal Shipley on fiddle. They released their first full length original album “The Band is Causing Problems” in 2020 and just released their second album “The Band is Playing Covers.” Together they make a memorable sound certain to make you tap your feet and sing along!
URL:https://vibrissabeer.com/event/live-music-front-royal-the-fly-birds-2/
LOCATION:Vibrissa Beer Front Royal\, 122 East Main Street\, Front Royal\, VA\, 22630\, United States
CATEGORIES:Front Royal
ATTACH;FMTTYPE=image/png:https://vibrissabeer.com/wp-content/uploads/2023/06/flybirds.png
ORGANIZER;CN="Vibrissa Beer":MAILTO:info@vibrissabeer.com
END:VEVENT
BEGIN:VEVENT
DTSTART;TZID=UTC:20250216T110000
DTEND;TZID=UTC:20250216T150000
DTSTAMP:20260422T015930
CREATED:20250203T155010Z
LAST-MODIFIED:20250203T155010Z
UID:10002222-1739703600-1739718000@vibrissabeer.com
SUMMARY:Galentine's Brunch @ Vibrissa Beer Front Royal
DESCRIPTION:Join us on Sunday\, February 16th for our Galentine’s Brunch from 11AM-3PM. We will be offering a Galentine’s Brunch + Cocktail menu as well as a photo backdrop for all the gals! “It’s only the best day of the year.”
URL:https://vibrissabeer.com/event/galentines-brunch-vibrissa-beer-front-royal/
LOCATION:Vibrissa Beer Front Royal\, 122 East Main Street\, Front Royal\, VA\, 22630\, United States
CATEGORIES:Front Royal
ATTACH;FMTTYPE=image/jpeg:https://vibrissabeer.com/wp-content/uploads/2025/02/FR-1.jpg
ORGANIZER;CN="Vibrissa Beer":MAILTO:info@vibrissabeer.com
END:VEVENT
END:VCALENDAR