BEGIN:VCALENDAR
VERSION:2.0
PRODID:-//Vibrissa Beer - ECPv6.15.20//NONSGML v1.0//EN
CALSCALE:GREGORIAN
METHOD:PUBLISH
X-ORIGINAL-URL:https://vibrissabeer.com
X-WR-CALDESC:Events for Vibrissa Beer
REFRESH-INTERVAL;VALUE=DURATION:PT1H
X-Robots-Tag:noindex
X-PUBLISHED-TTL:PT1H
BEGIN:VTIMEZONE
TZID:UTC
BEGIN:STANDARD
TZOFFSETFROM:+0000
TZOFFSETTO:+0000
TZNAME:UTC
DTSTART:20220101T000000
END:STANDARD
END:VTIMEZONE
BEGIN:VEVENT
DTSTART;TZID=UTC:20231223T200000
DTEND;TZID=UTC:20231223T220000
DTSTAMP:20260421T184531
CREATED:20231114T163958Z
LAST-MODIFIED:20231114T163958Z
UID:10000501-1703361600-1703368800@vibrissabeer.com
SUMMARY:Live Music Front Royal - Ryan Jewel
DESCRIPTION:A native of Front Royal\, Virginia\, the country music singer/songwriter released his first EP “Up on the Drive” in 2016. This EP helped him gain traction with his music career around his hometown\, the Shenandoah Valley\, and further. Along with his EP\, Ryan was a runner-up in the 2015 Texaco Country Showdown\, a nationwide talent search\, which solidified Ryan’s calling for a music career. Ryan has had the privilege of being the opening act for some major country artist’s such as Marty Stuart and Lauren Alaina. He has also shared the stage with fellow Nashville artists\, and Clemson buddies\, Cody Webb and Doug McCormick.
URL:https://vibrissabeer.com/event/live-music-front-royal-ryan-jewel-2/
LOCATION:Vibrissa Beer Front Royal\, 122 East Main Street\, Front Royal\, VA\, 22630\, United States
CATEGORIES:Front Royal
ATTACH;FMTTYPE=image/webp:https://vibrissabeer.com/wp-content/uploads/2023/11/a2f955_3128b7986fbc4641897e60a9bf45268b_mv2.webp
ORGANIZER;CN="Vibrissa Beer":MAILTO:info@vibrissabeer.com
END:VEVENT
END:VCALENDAR