BEGIN:VCALENDAR
VERSION:2.0
PRODID:-//Vibrissa Beer - ECPv6.15.20//NONSGML v1.0//EN
CALSCALE:GREGORIAN
METHOD:PUBLISH
X-ORIGINAL-URL:https://vibrissabeer.com
X-WR-CALDESC:Events for Vibrissa Beer
REFRESH-INTERVAL;VALUE=DURATION:PT1H
X-Robots-Tag:noindex
X-PUBLISHED-TTL:PT1H
BEGIN:VTIMEZONE
TZID:UTC
BEGIN:STANDARD
TZOFFSETFROM:+0000
TZOFFSETTO:+0000
TZNAME:UTC
DTSTART:20220101T000000
END:STANDARD
END:VTIMEZONE
BEGIN:VEVENT
DTSTART;TZID=UTC:20230805T120000
DTEND;TZID=UTC:20230805T210000
DTSTAMP:20260421T212618
CREATED:20230717T173258Z
LAST-MODIFIED:20230717T173258Z
UID:10000471-1691236800-1691269200@vibrissabeer.com
SUMMARY:Vibrissa Beer's 5 Year Anniversary Celebration!
DESCRIPTION:Join us on Saturday\, August 5th at our Front Royal location to help us celebrate our 5 year anniversary! We will have live music throughout the day as well as BBQ\, local mead\, cider\, beer & wine! Follow along on Facebook for more updates!
URL:https://vibrissabeer.com/event/vibrissa-beers-5-year-anniversary-celebration/
LOCATION:Vibrissa Beer Front Royal\, 122 East Main Street\, Front Royal\, VA\, 22630\, United States
CATEGORIES:Front Royal
ATTACH;FMTTYPE=image/jpeg:https://vibrissabeer.com/wp-content/uploads/2023/07/anniversaryflyer-2.jpg
ORGANIZER;CN="Vibrissa Beer":MAILTO:info@vibrissabeer.com
END:VEVENT
END:VCALENDAR