BEGIN:VCALENDAR
VERSION:2.0
PRODID:-//Vibrissa Beer - ECPv6.15.20//NONSGML v1.0//EN
CALSCALE:GREGORIAN
METHOD:PUBLISH
X-WR-CALNAME:Vibrissa Beer
X-ORIGINAL-URL:https://vibrissabeer.com
X-WR-CALDESC:Events for Vibrissa Beer
REFRESH-INTERVAL;VALUE=DURATION:PT1H
X-Robots-Tag:noindex
X-PUBLISHED-TTL:PT1H
BEGIN:VTIMEZONE
TZID:UTC
BEGIN:STANDARD
TZOFFSETFROM:+0000
TZOFFSETTO:+0000
TZNAME:UTC
DTSTART:20220101T000000
END:STANDARD
END:VTIMEZONE
BEGIN:VEVENT
DTSTART;TZID=UTC:20230616T200000
DTEND;TZID=UTC:20230616T220000
DTSTAMP:20260422T002738
CREATED:20230512T155422Z
LAST-MODIFIED:20230512T155422Z
UID:10000457-1686945600-1686952800@vibrissabeer.com
SUMMARY:Live Music Front Royal - Jon Mitchem
DESCRIPTION:Jonathan Mitchem\, an American Singer-Songwriter from Alexandria\, VA\, began his musical journey as a drummer\, but he’s since become an accomplished guitarist and singer. His songwriting\, a style deeply rooted in his heritage traced back to the hills of Welch\, West Virginia\, is comprised of intricate melodies and lyrics that harken back to a time where music was pulled from hardship and life experience. He’s played venues that have been graced by notable names like Zac Brown\, Keith Urban\, Journey\, Steve Miller Band\, and Dave Matthews.
URL:https://vibrissabeer.com/event/live-music-front-royal-jon-mitchem-2/
LOCATION:Vibrissa Beer Front Royal\, 122 East Main Street\, Front Royal\, VA\, 22630\, United States
CATEGORIES:Front Royal
ATTACH;FMTTYPE=image/jpeg:https://vibrissabeer.com/wp-content/uploads/2023/02/162788445_122905106509401_6357960347326232712_n.jpg
ORGANIZER;CN="Vibrissa Beer":MAILTO:info@vibrissabeer.com
END:VEVENT
END:VCALENDAR