BEGIN:VCALENDAR
VERSION:2.0
PRODID:-//Vibrissa Beer - ECPv6.15.20//NONSGML v1.0//EN
CALSCALE:GREGORIAN
METHOD:PUBLISH
X-WR-CALNAME:Vibrissa Beer
X-ORIGINAL-URL:https://vibrissabeer.com
X-WR-CALDESC:Events for Vibrissa Beer
REFRESH-INTERVAL;VALUE=DURATION:PT1H
X-Robots-Tag:noindex
X-PUBLISHED-TTL:PT1H
BEGIN:VTIMEZONE
TZID:UTC
BEGIN:STANDARD
TZOFFSETFROM:+0000
TZOFFSETTO:+0000
TZNAME:UTC
DTSTART:20220101T000000
END:STANDARD
END:VTIMEZONE
BEGIN:VEVENT
DTSTART;TZID=UTC:20230429T200000
DTEND;TZID=UTC:20230429T220000
DTSTAMP:20260422T031150
CREATED:20230224T233149Z
LAST-MODIFIED:20230224T233149Z
UID:10000440-1682798400-1682805600@vibrissabeer.com
SUMMARY:Live Music Front Royal - Dunlap & Mabe
DESCRIPTION:Jack has teamed up with world renowned banjo player Robert Mabe to form the duo Dunlap & Mabe. Featuring Jack on guitar and Robert on banjo\, they are joined by Alex Kimble on bass\, Mason Wright on fiddle and Danny Knicely on mandolin. Their debut album\, Stumblin’ Out The Gate\, was released in September 2022. Their sophomore album\, Horses & Horsepower’s will be released later in 2023.
URL:https://vibrissabeer.com/event/live-music-front-royal-dunlap-mabe/
LOCATION:Vibrissa Beer Front Royal\, 122 East Main Street\, Front Royal\, VA\, 22630\, United States
CATEGORIES:Front Royal
ATTACH;FMTTYPE=image/jpeg:https://vibrissabeer.com/wp-content/uploads/2023/02/dunlapmabe-scaled.jpg
ORGANIZER;CN="Vibrissa Beer":MAILTO:info@vibrissabeer.com
END:VEVENT
END:VCALENDAR