BEGIN:VCALENDAR
VERSION:2.0
PRODID:-//Vibrissa Beer - ECPv6.15.20//NONSGML v1.0//EN
CALSCALE:GREGORIAN
METHOD:PUBLISH
X-ORIGINAL-URL:https://vibrissabeer.com
X-WR-CALDESC:Events for Vibrissa Beer
REFRESH-INTERVAL;VALUE=DURATION:PT1H
X-Robots-Tag:noindex
X-PUBLISHED-TTL:PT1H
BEGIN:VTIMEZONE
TZID:UTC
BEGIN:STANDARD
TZOFFSETFROM:+0000
TZOFFSETTO:+0000
TZNAME:UTC
DTSTART:20220101T000000
END:STANDARD
END:VTIMEZONE
BEGIN:VEVENT
DTSTART;TZID=UTC:20230224T200000
DTEND;TZID=UTC:20230224T220000
DTSTAMP:20260422T103135
CREATED:20230105T213045Z
LAST-MODIFIED:20230105T213125Z
UID:10000428-1677268800-1677276000@vibrissabeer.com
SUMMARY:Live Music Front Royal - Derek Kretzer
DESCRIPTION:Derek Kretzer is a multi-instrumentalist currently living on the banks of the Shenandoah river in Virginia. He is the vocalist/banjo player for the progressive bluegrass group the Plate Scrapers.
URL:https://vibrissabeer.com/event/live-music-front-royal-derek-kretzer/
LOCATION:Vibrissa Beer Front Royal\, 122 East Main Street\, Front Royal\, VA\, 22630\, United States
CATEGORIES:Front Royal
ATTACH;FMTTYPE=image/jpeg:https://vibrissabeer.com/wp-content/uploads/2023/01/derekkretzermusic.jpg
ORGANIZER;CN="Vibrissa Beer":MAILTO:info@vibrissabeer.com
END:VEVENT
END:VCALENDAR