BEGIN:VCALENDAR
VERSION:2.0
PRODID:-//Vibrissa Beer - ECPv6.15.20//NONSGML v1.0//EN
CALSCALE:GREGORIAN
METHOD:PUBLISH
X-WR-CALNAME:Vibrissa Beer
X-ORIGINAL-URL:https://vibrissabeer.com
X-WR-CALDESC:Events for Vibrissa Beer
REFRESH-INTERVAL;VALUE=DURATION:PT1H
X-Robots-Tag:noindex
X-PUBLISHED-TTL:PT1H
BEGIN:VTIMEZONE
TZID:UTC
BEGIN:STANDARD
TZOFFSETFROM:+0000
TZOFFSETTO:+0000
TZNAME:UTC
DTSTART:20220101T000000
END:STANDARD
END:VTIMEZONE
BEGIN:VEVENT
DTSTART;TZID=UTC:20231117T200000
DTEND;TZID=UTC:20231117T220000
DTSTAMP:20260421T154958
CREATED:20231114T143015Z
LAST-MODIFIED:20231114T143015Z
UID:10000492-1700251200-1700258400@vibrissabeer.com
SUMMARY:Live Music Front Royal - Bearded Harmony
DESCRIPTION:Bearded Harmony is an eclectic acoustic duo. With over 20 years of musical experience\, they will take you on a journey down memory lane as well as introduce you to music you may have never heard before. From Johnny Cash\, Tom Petty\, Bill Withers\, even James Blunt and Harry Styles. Having such a variety of music\, you’ll be sure to enjoy the easy listening of Bearded Harmony.
URL:https://vibrissabeer.com/event/live-music-front-royal-bearded-harmony/
LOCATION:Vibrissa Beer Front Royal\, 122 East Main Street\, Front Royal\, VA\, 22630\, United States
CATEGORIES:Front Royal
ATTACH;FMTTYPE=image/jpeg:https://vibrissabeer.com/wp-content/uploads/2023/11/beardedharmony.jpg
ORGANIZER;CN="Vibrissa Beer":MAILTO:info@vibrissabeer.com
END:VEVENT
BEGIN:VEVENT
DTSTART;TZID=UTC:20231125T200000
DTEND;TZID=UTC:20231125T220000
DTSTAMP:20260421T154958
CREATED:20231114T152134Z
LAST-MODIFIED:20231114T152134Z
UID:10000495-1700942400-1700949600@vibrissabeer.com
SUMMARY:Live Music Front Royal - Fork in the Road
DESCRIPTION:Fork In The Road is a country rock band based in Northern Virginia. They lean towards a southern rock and alt-country sound. They play a variety of rock and country tunes with a unique blend of vocal harmonies. The band covers recent songs from Chris Stapleton\, Whiskey Myers and Tyler Childers\, as well as classic songs from The Eagles\, Tom Petty\, Lynyrd Skynyrd and Marshall Tucker Band to name a few. Fork in the Road also play original songs written by members of the band
URL:https://vibrissabeer.com/event/live-music-front-royal-fork-in-the-road-3/
LOCATION:Vibrissa Beer Front Royal\, 122 East Main Street\, Front Royal\, VA\, 22630\, United States
CATEGORIES:Front Royal
ATTACH;FMTTYPE=image/png:https://vibrissabeer.com/wp-content/uploads/2022/12/forkintheroadmusic.png
ORGANIZER;CN="Vibrissa Beer":MAILTO:info@vibrissabeer.com
END:VEVENT
END:VCALENDAR