BEGIN:VCALENDAR
VERSION:2.0
PRODID:-//Vibrissa Beer - ECPv6.15.20//NONSGML v1.0//EN
CALSCALE:GREGORIAN
METHOD:PUBLISH
X-ORIGINAL-URL:https://vibrissabeer.com
X-WR-CALDESC:Events for Vibrissa Beer
REFRESH-INTERVAL;VALUE=DURATION:PT1H
X-Robots-Tag:noindex
X-PUBLISHED-TTL:PT1H
BEGIN:VTIMEZONE
TZID:UTC
BEGIN:STANDARD
TZOFFSETFROM:+0000
TZOFFSETTO:+0000
TZNAME:UTC
DTSTART:20220101T000000
END:STANDARD
END:VTIMEZONE
BEGIN:VEVENT
DTSTART;TZID=UTC:20230805T120000
DTEND;TZID=UTC:20230805T210000
DTSTAMP:20260421T200039
CREATED:20230717T173258Z
LAST-MODIFIED:20230717T173258Z
UID:10000471-1691236800-1691269200@vibrissabeer.com
SUMMARY:Vibrissa Beer's 5 Year Anniversary Celebration!
DESCRIPTION:Join us on Saturday\, August 5th at our Front Royal location to help us celebrate our 5 year anniversary! We will have live music throughout the day as well as BBQ\, local mead\, cider\, beer & wine! Follow along on Facebook for more updates!
URL:https://vibrissabeer.com/event/vibrissa-beers-5-year-anniversary-celebration/
LOCATION:Vibrissa Beer Front Royal\, 122 East Main Street\, Front Royal\, VA\, 22630\, United States
CATEGORIES:Front Royal
ATTACH;FMTTYPE=image/jpeg:https://vibrissabeer.com/wp-content/uploads/2023/07/anniversaryflyer-2.jpg
ORGANIZER;CN="Vibrissa Beer":MAILTO:info@vibrissabeer.com
END:VEVENT
BEGIN:VEVENT
DTSTART;TZID=UTC:20230819T200000
DTEND;TZID=UTC:20230819T220000
DTSTAMP:20260421T200039
CREATED:20230811T172140Z
LAST-MODIFIED:20230811T172140Z
UID:10000474-1692475200-1692482400@vibrissabeer.com
SUMMARY:Live Music Front Royal - Fork in the Road
DESCRIPTION:Fork In The Road is a country rock band based in Northern Virginia.  They lean towards a southern rock and alt-country sound.  They play a variety of rock and country tunes with a unique blend of vocal harmonies.  The band covers recent songs from Chris Stapleton\, Whiskey Myers and Tyler Childers\, as well as classic songs from The Eagles\, Tom Petty\, Lynyrd Skynyrd and Marshall Tucker Band to name a few.  Fork in the Road also play original songs written by members of the band.
URL:https://vibrissabeer.com/event/live-music-front-royal-fork-in-the-road-2/
LOCATION:Vibrissa Beer Front Royal\, 122 East Main Street\, Front Royal\, VA\, 22630\, United States
CATEGORIES:Front Royal
ATTACH;FMTTYPE=image/png:https://vibrissabeer.com/wp-content/uploads/2022/12/forkintheroadmusic.png
ORGANIZER;CN="Vibrissa Beer":MAILTO:info@vibrissabeer.com
END:VEVENT
BEGIN:VEVENT
DTSTART;TZID=UTC:20230825T200000
DTEND;TZID=UTC:20230825T220000
DTSTAMP:20260421T200039
CREATED:20230811T175549Z
LAST-MODIFIED:20230811T175549Z
UID:10000475-1692993600-1693000800@vibrissabeer.com
SUMMARY:Live Music Front Royal - Taylor LaFever
DESCRIPTION:Taylor LaFever is a native of Shenandoah County\, Virginia. He is a Indie-Country\, Folk\, and Americana singer\, songwriter\, and performer. Currently a candidate for a Master in Music Technology and Studio Production degree from Southern Utah University\, it is likely you’ll catch him at a local vineyard or brewery\, he’s been playing live shows in the Shenandoah Valley Region since his return from the West Coast.
URL:https://vibrissabeer.com/event/live-music-front-royal-taylor-lafever/
LOCATION:Vibrissa Beer Front Royal\, 122 East Main Street\, Front Royal\, VA\, 22630\, United States
CATEGORIES:Front Royal
ATTACH;FMTTYPE=image/webp:https://vibrissabeer.com/wp-content/uploads/2023/08/meta_eyJzcmNCdWNrZXQiOiJiemdsZmlsZXMifQ.webp
ORGANIZER;CN="Vibrissa Beer":MAILTO:info@vibrissabeer.com
END:VEVENT
END:VCALENDAR