BEGIN:VCALENDAR
VERSION:2.0
PRODID:-//Vibrissa Beer - ECPv6.15.20//NONSGML v1.0//EN
CALSCALE:GREGORIAN
METHOD:PUBLISH
X-WR-CALNAME:Vibrissa Beer
X-ORIGINAL-URL:https://vibrissabeer.com
X-WR-CALDESC:Events for Vibrissa Beer
REFRESH-INTERVAL;VALUE=DURATION:PT1H
X-Robots-Tag:noindex
X-PUBLISHED-TTL:PT1H
BEGIN:VTIMEZONE
TZID:UTC
BEGIN:STANDARD
TZOFFSETFROM:+0000
TZOFFSETTO:+0000
TZNAME:UTC
DTSTART:20220101T000000
END:STANDARD
END:VTIMEZONE
BEGIN:VEVENT
DTSTART;TZID=UTC:20230602T190000
DTEND;TZID=UTC:20230602T210000
DTSTAMP:20260421T225413
CREATED:20230512T145657Z
LAST-MODIFIED:20230530T141131Z
UID:10000453-1685732400-1685739600@vibrissabeer.com
SUMMARY:Live Music Front Royal - Brennan Edwards
DESCRIPTION:Brennan is a local musician from the Shenandoah Valley. Playing a variety of genres from bluegrass\, folk\, alternative\, and more. Some of his artist influencers include Tyler Childers\, Hank Williams\, Red Hot Chili Peppers and so many more! Brennan is making his way in the surrounding area as he was recently nominated in the Winchester Star for ‘Best Local Music Performer” amongst other great artists in the area.
URL:https://vibrissabeer.com/event/live-music-front-royal-brennan-edwards/
LOCATION:Vibrissa Beer Front Royal\, 122 East Main Street\, Front Royal\, VA\, 22630\, United States
CATEGORIES:Front Royal
ATTACH;FMTTYPE=image/jpeg:https://vibrissabeer.com/wp-content/uploads/2023/05/brennanedwardsacousticphoto.jpg
ORGANIZER;CN="Vibrissa Beer":MAILTO:info@vibrissabeer.com
END:VEVENT
BEGIN:VEVENT
DTSTART;TZID=UTC:20230610T200000
DTEND;TZID=UTC:20230610T220000
DTSTAMP:20260421T225413
CREATED:20230512T154300Z
LAST-MODIFIED:20230512T154300Z
UID:10000456-1686427200-1686434400@vibrissabeer.com
SUMMARY:Live Music Front Royal - Ryan Thomas Band
DESCRIPTION:Ryan Thomas is a local singer-songwriter who has been active in the Winchester-area performing community for several years and was the vocalist for the Apple Blossom’s Got Talent Contest winner in 2019. Along with his all-new band\, they bring an eclectic blend of rock\, country & blues\, creating a diverse and well-rounded sound.
URL:https://vibrissabeer.com/event/live-music-front-royal-ryan-thomas-band/
LOCATION:Vibrissa Beer Front Royal\, 122 East Main Street\, Front Royal\, VA\, 22630\, United States
CATEGORIES:Front Royal
ATTACH;FMTTYPE=image/jpeg:https://vibrissabeer.com/wp-content/uploads/2023/05/ryanthomasband2.jpg
ORGANIZER;CN="Vibrissa Beer":MAILTO:info@vibrissabeer.com
END:VEVENT
BEGIN:VEVENT
DTSTART;TZID=UTC:20230616T200000
DTEND;TZID=UTC:20230616T220000
DTSTAMP:20260421T225413
CREATED:20230512T155422Z
LAST-MODIFIED:20230512T155422Z
UID:10000457-1686945600-1686952800@vibrissabeer.com
SUMMARY:Live Music Front Royal - Jon Mitchem
DESCRIPTION:Jonathan Mitchem\, an American Singer-Songwriter from Alexandria\, VA\, began his musical journey as a drummer\, but he’s since become an accomplished guitarist and singer. His songwriting\, a style deeply rooted in his heritage traced back to the hills of Welch\, West Virginia\, is comprised of intricate melodies and lyrics that harken back to a time where music was pulled from hardship and life experience. He’s played venues that have been graced by notable names like Zac Brown\, Keith Urban\, Journey\, Steve Miller Band\, and Dave Matthews.
URL:https://vibrissabeer.com/event/live-music-front-royal-jon-mitchem-2/
LOCATION:Vibrissa Beer Front Royal\, 122 East Main Street\, Front Royal\, VA\, 22630\, United States
CATEGORIES:Front Royal
ATTACH;FMTTYPE=image/jpeg:https://vibrissabeer.com/wp-content/uploads/2023/02/162788445_122905106509401_6357960347326232712_n.jpg
ORGANIZER;CN="Vibrissa Beer":MAILTO:info@vibrissabeer.com
END:VEVENT
BEGIN:VEVENT
DTSTART;TZID=UTC:20230624T200000
DTEND;TZID=UTC:20230624T220000
DTSTAMP:20260421T225413
CREATED:20230512T161842Z
LAST-MODIFIED:20230512T161842Z
UID:10000460-1687636800-1687644000@vibrissabeer.com
SUMMARY:Live Music Front Royal - Meisha Herron
DESCRIPTION:Meisha Herron studied guitar at Columbia College Chicago.  All the while\, she further increased her musical palate by listening to albums and playing with other musicians that she met on Chicago’s South side nightclubs. She played with notable artists as Shirley King (Daughter of BB King)\, Emery Williams\, Lovie Lee\, Nicole M. Mitchell\, Diane Ellis\, Sherry Weathersby\, Katherine Davis\, Sheryl Youngblood and many others. Her originals songs are songs about love\, nature\, community and family.  She released a 6 original song EP recorded live in Chicago with acoustic guitar and a drum accompaniment.
URL:https://vibrissabeer.com/event/live-music-front-royal-meisha-herron/
LOCATION:Vibrissa Beer Front Royal\, 122 East Main Street\, Front Royal\, VA\, 22630\, United States
CATEGORIES:Front Royal
ATTACH;FMTTYPE=image/png:https://vibrissabeer.com/wp-content/uploads/2022/12/Screenshot-11.png
ORGANIZER;CN="Vibrissa Beer":MAILTO:info@vibrissabeer.com
END:VEVENT
BEGIN:VEVENT
DTSTART;TZID=UTC:20230630T200000
DTEND;TZID=UTC:20230630T220000
DTSTAMP:20260421T225413
CREATED:20230518T155222Z
LAST-MODIFIED:20230518T155222Z
UID:10000461-1688155200-1688162400@vibrissabeer.com
SUMMARY:Live Music Front Royal - Katie & Kelly
DESCRIPTION:Katie and Kelly\, are a Sister-Duo from the foothills of the Blue Ridge Mountains. Together\, they create visual and meaningful music with sweeping blood-harmonies and powerful lyrics. The Americana Roots singers’ have an EP\, In the Middle\, which brings light to the parts of ourselves that need to be seen and heard. With a decade of collective time on stage\, and a lifetime of sisterhood\, they bring the medicine of music to those around them each time they step to the stage.
URL:https://vibrissabeer.com/event/live-music-front-royal-katie-kelly/
LOCATION:Vibrissa Beer Front Royal\, 122 East Main Street\, Front Royal\, VA\, 22630\, United States
CATEGORIES:Front Royal
ATTACH;FMTTYPE=image/png:https://vibrissabeer.com/wp-content/uploads/2023/03/Screenshot-39.png
ORGANIZER;CN="Vibrissa Beer":MAILTO:info@vibrissabeer.com
END:VEVENT
END:VCALENDAR