BEGIN:VCALENDAR
VERSION:2.0
PRODID:-//Vibrissa Beer - ECPv6.15.20//NONSGML v1.0//EN
CALSCALE:GREGORIAN
METHOD:PUBLISH
X-WR-CALNAME:Vibrissa Beer
X-ORIGINAL-URL:https://vibrissabeer.com
X-WR-CALDESC:Events for Vibrissa Beer
REFRESH-INTERVAL;VALUE=DURATION:PT1H
X-Robots-Tag:noindex
X-PUBLISHED-TTL:PT1H
BEGIN:VTIMEZONE
TZID:UTC
BEGIN:STANDARD
TZOFFSETFROM:+0000
TZOFFSETTO:+0000
TZNAME:UTC
DTSTART:20220101T000000
END:STANDARD
END:VTIMEZONE
BEGIN:VEVENT
DTSTART;TZID=UTC:20230513T200000
DTEND;TZID=UTC:20230513T230000
DTSTAMP:20260422T002436
CREATED:20230320T194130Z
LAST-MODIFIED:20230320T194130Z
UID:10000449-1684008000-1684018800@vibrissabeer.com
SUMMARY:Live Music Front Royal - Blackjack
DESCRIPTION:Blackjack is a husband and wife act with more than 30 years of performing experience. Jim and Mel play classic rock\, country\, blues\, and dance music. They have experience playing in Nashville\, the Grand Ole Opry\, locally\, and most recently\, 22 years with the Carnival Cruise Line entertaining guests from across the US. Blackjack is arguably one of the best and most versatile acts in the area!
URL:https://vibrissabeer.com/event/live-music-front-royal-blackjack/
LOCATION:Vibrissa Beer Front Royal\, 122 East Main Street\, Front Royal\, VA\, 22630\, United States
CATEGORIES:Front Royal
ATTACH;FMTTYPE=image/jpeg:https://vibrissabeer.com/wp-content/uploads/2023/03/jimandmel.jpg
ORGANIZER;CN="Vibrissa Beer":MAILTO:info@vibrissabeer.com
END:VEVENT
BEGIN:VEVENT
DTSTART;TZID=UTC:20230519T200000
DTEND;TZID=UTC:20230519T220000
DTSTAMP:20260422T002436
CREATED:20230512T143934Z
LAST-MODIFIED:20230512T143934Z
UID:10000452-1684526400-1684533600@vibrissabeer.com
SUMMARY:Live Music Front Royal - Ryan Thomas Acoustic
DESCRIPTION:Ryan Thomas is a local singer-songwriter who has been active in the Winchester-area performing community for several years and was the vocalist for the Apple Blossom’s Got Talent Contest winner in 2019. Along with his all-new band\, they bring an eclectic blend of rock\, country & blues\, creating a diverse and well-rounded sound.
URL:https://vibrissabeer.com/event/live-music-front-royal-ryan-thomas-acoustic/
LOCATION:Vibrissa Beer Front Royal\, 122 East Main Street\, Front Royal\, VA\, 22630\, United States
CATEGORIES:Front Royal
ATTACH;FMTTYPE=image/jpeg:https://vibrissabeer.com/wp-content/uploads/2023/05/ryanthomasacousticphoto.jpg
ORGANIZER;CN="Vibrissa Beer":MAILTO:info@vibrissabeer.com
END:VEVENT
BEGIN:VEVENT
DTSTART;TZID=UTC:20230527T200000
DTEND;TZID=UTC:20230527T220000
DTSTAMP:20260422T002436
CREATED:20230315T172511Z
LAST-MODIFIED:20230315T172612Z
UID:10000448-1685217600-1685224800@vibrissabeer.com
SUMMARY:Live Music Front Royal - Dylan Woelfel
DESCRIPTION:Dylan Woelfel is an independent artist from Boyce\, VA. He’s been playing the surrounding area for 15 years. Known for playing Outlaw\, Country\, Rock\, Fold\, and Original Songs.
URL:https://vibrissabeer.com/event/live-music-front-royal-dylan-woelfel/
LOCATION:Vibrissa Beer Front Royal\, 122 East Main Street\, Front Royal\, VA\, 22630\, United States
CATEGORIES:Front Royal
ATTACH;FMTTYPE=image/jpeg:https://vibrissabeer.com/wp-content/uploads/2023/03/dylanwoelfel.jpg
ORGANIZER;CN="Vibrissa Beer":MAILTO:info@vibrissabeer.com
END:VEVENT
END:VCALENDAR