BEGIN:VCALENDAR
VERSION:2.0
PRODID:-//Vibrissa Beer - ECPv6.15.20//NONSGML v1.0//EN
CALSCALE:GREGORIAN
METHOD:PUBLISH
X-ORIGINAL-URL:https://vibrissabeer.com
X-WR-CALDESC:Events for Vibrissa Beer
REFRESH-INTERVAL;VALUE=DURATION:PT1H
X-Robots-Tag:noindex
X-PUBLISHED-TTL:PT1H
BEGIN:VTIMEZONE
TZID:UTC
BEGIN:STANDARD
TZOFFSETFROM:+0000
TZOFFSETTO:+0000
TZNAME:UTC
DTSTART:20220101T000000
END:STANDARD
END:VTIMEZONE
BEGIN:VEVENT
DTSTART;TZID=UTC:20230303T200000
DTEND;TZID=UTC:20230303T223000
DTSTAMP:20260422T031203
CREATED:20221228T173111Z
LAST-MODIFIED:20230102T185046Z
UID:10000423-1677873600-1677882600@vibrissabeer.com
SUMMARY:Live Music Front Royal - Ryan Jewel
DESCRIPTION:A native of Front Royal\, Virginia\, the country music singer/songwriter released his first EP “Up on the Drive” in 2016. This EP helped him gain traction with his music career around his hometown\, the Shenandoah Valley\, and further. Along with his EP\, Ryan was a runner-up in the 2015 Texaco Country Showdown\, a nationwide talent search\, which solidified Ryan’s calling for a music career. Ryan has had the privilege of being the opening act for some major country artist’s such as Marty Stuart and Lauren Alaina. He has also shared the stage with fellow Nashville artists\, and Clemson buddies\, Cody Webb and Doug McCormick.
URL:https://vibrissabeer.com/event/live-music-front-royal-ryan-jewel/
LOCATION:Vibrissa Beer Front Royal\, 122 East Main Street\, Front Royal\, VA\, 22630\, United States
CATEGORIES:Front Royal
ATTACH;FMTTYPE=image/png:https://vibrissabeer.com/wp-content/uploads/2022/12/Screenshot-9.png
ORGANIZER;CN="Vibrissa Beer":MAILTO:info@vibrissabeer.com
END:VEVENT
BEGIN:VEVENT
DTSTART;TZID=UTC:20230310T200000
DTEND;TZID=UTC:20230310T230000
DTSTAMP:20260422T031203
CREATED:20221229T164509Z
LAST-MODIFIED:20230102T184704Z
UID:10000426-1678478400-1678489200@vibrissabeer.com
SUMMARY:Live Music Front Royal - Jarreau Williams
DESCRIPTION:Around the DMV\, Jarreau (juh-ROW) Williams is known as the “man with the golden pipes.” The Alexandria\, VA native and 4x Wammie Award winner is a consummate showman and charismatic front-man. His smooth powerhouse vocals fused with electronic 80s-90s modern R&B grooves\, beatbox\, and nostalgic lyrical innuendo leaves listeners hyped with messages of self love\, unity\, perseverance\, and positive vibes. Expect high-energy\, funk\, and a unique brand of soulful humor at any of his performances.
URL:https://vibrissabeer.com/event/live-music-front-royal-jarreau-williams/
LOCATION:Vibrissa Beer Front Royal\, 122 East Main Street\, Front Royal\, VA\, 22630\, United States
CATEGORIES:Front Royal
ATTACH;FMTTYPE=image/jpeg:https://vibrissabeer.com/wp-content/uploads/2022/12/274793276_1006174429980734_545781745330733448_n.jpg
ORGANIZER;CN="Vibrissa Beer":MAILTO:info@vibrissabeer.com
END:VEVENT
BEGIN:VEVENT
DTSTART;TZID=UTC:20230318T200000
DTEND;TZID=UTC:20230318T220000
DTSTAMP:20260422T031203
CREATED:20230223T172801Z
LAST-MODIFIED:20230223T172801Z
UID:10000431-1679169600-1679176800@vibrissabeer.com
SUMMARY:Live Music Front Royal - Fountains
DESCRIPTION:Fountains band plays both originals and a curated list of covers from artists like the Beatles\, Fleet Foxes\, Steve Winwood\, Foo Fighters\, Kings of Leon and many more. Sean (vocals/guitar/keyboard)\, Chris (bass)\, and Blayne Laures (drums).
URL:https://vibrissabeer.com/event/live-music-front-royal-fountains-2/
LOCATION:Vibrissa Beer Front Royal\, 122 East Main Street\, Front Royal\, VA\, 22630\, United States
CATEGORIES:Front Royal
ATTACH;FMTTYPE=image/jpeg:https://vibrissabeer.com/wp-content/uploads/2022/12/Fountains.jpg
ORGANIZER;CN="Vibrissa Beer":MAILTO:info@vibrissabeer.com
END:VEVENT
BEGIN:VEVENT
DTSTART;TZID=UTC:20230325T200000
DTEND;TZID=UTC:20230325T220000
DTSTAMP:20260422T031203
CREATED:20230223T180225Z
LAST-MODIFIED:20230223T180225Z
UID:10000432-1679774400-1679781600@vibrissabeer.com
SUMMARY:Live Music Front Royal - Jimmy Lee
DESCRIPTION:Jimmy Lee is a multi-talented artist who blends musical favorites from the 1970’s through today into each performance. He is an engaging performer with the ability to draw a crowd in and let them become a part of the show!
URL:https://vibrissabeer.com/event/live-music-front-royal-jimmy-lee/
LOCATION:Vibrissa Beer Front Royal\, 122 East Main Street\, Front Royal\, VA\, 22630\, United States
CATEGORIES:Front Royal
ATTACH;FMTTYPE=image/png:https://vibrissabeer.com/wp-content/uploads/2023/02/Screenshot-25.png
ORGANIZER;CN="Vibrissa Beer":MAILTO:info@vibrissabeer.com
END:VEVENT
END:VCALENDAR