BEGIN:VCALENDAR
VERSION:2.0
PRODID:-//Vibrissa Beer - ECPv6.15.20//NONSGML v1.0//EN
CALSCALE:GREGORIAN
METHOD:PUBLISH
X-ORIGINAL-URL:https://vibrissabeer.com
X-WR-CALDESC:Events for Vibrissa Beer
REFRESH-INTERVAL;VALUE=DURATION:PT1H
X-Robots-Tag:noindex
X-PUBLISHED-TTL:PT1H
BEGIN:VTIMEZONE
TZID:UTC
BEGIN:STANDARD
TZOFFSETFROM:+0000
TZOFFSETTO:+0000
TZNAME:UTC
DTSTART:20230101T000000
END:STANDARD
END:VTIMEZONE
BEGIN:VEVENT
DTSTART;TZID=UTC:20240120T190000
DTEND;TZID=UTC:20240120T210000
DTSTAMP:20260422T033854
CREATED:20240109T180852Z
LAST-MODIFIED:20240116T173016Z
UID:10000504-1705777200-1705784400@vibrissabeer.com
SUMMARY:Live Music Winchester - Jarreau Williams | JWX
DESCRIPTION:Around the DMV\, Jarreau Williams is known as the “man with the golden pipes.” The Alexandria\, VA native and 4x Wammie Award winner is a consummate showman and charismatic front-man. His smooth powerhouse vocals fused with electronic 80s-90s modern R&B grooves\, beatbox\, and nostalgic lyrical innuendo leaves listeners hyped with messages of self love\, unity\, perseverance\, and positive vibes. Expect high-energy\, funk\, and a unique brand of soulful humor at any of his performances.
URL:https://vibrissabeer.com/event/live-music-winchester-jarreau-williams-jwx/
LOCATION:Vibrissa Beer Winchester\, 10 North Kent Street\, Winchester\, VA\, 22601\, United States
CATEGORIES:Winchester
ATTACH;FMTTYPE=image/jpeg:https://vibrissabeer.com/wp-content/uploads/2024/01/jarreauwilliamsphoto.jpg
ORGANIZER;CN="Vibrissa Beer":MAILTO:info@vibrissabeer.com
END:VEVENT
END:VCALENDAR