BEGIN:VCALENDAR
VERSION:2.0
PRODID:-//Vibrissa Beer - ECPv6.15.20//NONSGML v1.0//EN
CALSCALE:GREGORIAN
METHOD:PUBLISH
X-WR-CALNAME:Vibrissa Beer
X-ORIGINAL-URL:https://vibrissabeer.com
X-WR-CALDESC:Events for Vibrissa Beer
REFRESH-INTERVAL;VALUE=DURATION:PT1H
X-Robots-Tag:noindex
X-PUBLISHED-TTL:PT1H
BEGIN:VTIMEZONE
TZID:UTC
BEGIN:STANDARD
TZOFFSETFROM:+0000
TZOFFSETTO:+0000
TZNAME:UTC
DTSTART:20220101T000000
END:STANDARD
END:VTIMEZONE
BEGIN:VEVENT
DTSTART;TZID=UTC:20231216T200000
DTEND;TZID=UTC:20231216T220000
DTSTAMP:20260422T021549
CREATED:20231114T161200Z
LAST-MODIFIED:20231120T164920Z
UID:10000499-1702756800-1702764000@vibrissabeer.com
SUMMARY:Live Music Winchester - Ophie & Monday Blues
DESCRIPTION:Ophie is an Artist\, Producer\, and DJ from Winchester\, Virginia. He started playing at eight years old and began professionally in 2019. Genre’s include R&B\, Soul\, Rock\, and Country. \nMonday blues met at a Monday open mic night in Winchester. They gained chemistry from backing up weekly players and eventually became the official band of Brennan Edwards. After building the backtracks for Brennan’s solo songs\, now playing periodically as a stand alone outfit covering genres from country to soul.
URL:https://vibrissabeer.com/event/live-music-winchester-mike-opt-hofs-band/
LOCATION:Vibrissa Beer Winchester\, 10 North Kent Street\, Winchester\, VA\, 22601\, United States
CATEGORIES:Winchester
ATTACH;FMTTYPE=image/jpeg:https://vibrissabeer.com/wp-content/uploads/2023/11/mikeopthof.jpg
ORGANIZER;CN="Vibrissa Beer":MAILTO:info@vibrissabeer.com
END:VEVENT
END:VCALENDAR