BEGIN:VCALENDAR
VERSION:2.0
PRODID:-//Vibrissa Beer - ECPv6.15.20//NONSGML v1.0//EN
CALSCALE:GREGORIAN
METHOD:PUBLISH
X-WR-CALNAME:Vibrissa Beer
X-ORIGINAL-URL:https://vibrissabeer.com
X-WR-CALDESC:Events for Vibrissa Beer
REFRESH-INTERVAL;VALUE=DURATION:PT1H
X-Robots-Tag:noindex
X-PUBLISHED-TTL:PT1H
BEGIN:VTIMEZONE
TZID:UTC
BEGIN:STANDARD
TZOFFSETFROM:+0000
TZOFFSETTO:+0000
TZNAME:UTC
DTSTART:20220101T000000
END:STANDARD
END:VTIMEZONE
BEGIN:VEVENT
DTSTART;TZID=UTC:20231020T200000
DTEND;TZID=UTC:20231020T220000
DTSTAMP:20260421T220420
CREATED:20231002T174700Z
LAST-MODIFIED:20231002T174700Z
UID:10000487-1697832000-1697839200@vibrissabeer.com
SUMMARY:Live Music Front Royal - Amanda Wilkins
DESCRIPTION:Born and raised in the Shenandoah Valley\, Amanda Wilkins has been performing since the young age of 12. She has shared the stage with various acts such as Linda Davis\, Catfish Hodge\, Billy Thompson\, as well as touring around the country opening for such acts as Phil Vassar\, Travis Tritt\, Rascal Flatts and Marty Stewart.\nAmanda is a BMI songwriter and has cowritten many tunes with Ricky Wilkins that have been featured on such cable shows as; Inside The NBA\, WWE Wrestling\, and the Lifetime Network’s Wife Swap. She has four albums under her belt\, including the 2019 release with Bird Dog Records and Bird Dog Records Publishing\, “Smothered & Covered\,” with all original songs written by Amanda\, Sam Stilwell\, “Doc\,” Shelton\, and Ricky Wilkins. Amanda and Sam Stilwell have just finished and released their new album in Spring of 2020\, “Open Doors\,” currently available on Apple Music\, Amazon Music\, Pandora\, iHeart Radio\, Spotify\, and all online purchasable and streaming networks. They continue to write and are working on their third album together\, currently untitled\, and are currently unsigned.\nWhen she’s not recording\, writing\, or performing\, Amanda is a full-time mother of two\, and a vocal instructor at The Rock Room in Winchester\, Va\, Hedgesville Middle School\, as well as other locations.
URL:https://vibrissabeer.com/event/live-music-front-royal-amanda-wilkins/
LOCATION:Vibrissa Beer Front Royal\, 122 East Main Street\, Front Royal\, VA\, 22630\, United States
CATEGORIES:Front Royal
ATTACH;FMTTYPE=image/jpeg:https://vibrissabeer.com/wp-content/uploads/2023/02/amandawilkins-scaled.jpg
ORGANIZER;CN="Vibrissa Beer":MAILTO:info@vibrissabeer.com
END:VEVENT
END:VCALENDAR