BEGIN:VCALENDAR
VERSION:2.0
PRODID:-//Vibrissa Beer - ECPv6.15.20//NONSGML v1.0//EN
CALSCALE:GREGORIAN
METHOD:PUBLISH
X-WR-CALNAME:Vibrissa Beer
X-ORIGINAL-URL:https://vibrissabeer.com
X-WR-CALDESC:Events for Vibrissa Beer
REFRESH-INTERVAL;VALUE=DURATION:PT1H
X-Robots-Tag:noindex
X-PUBLISHED-TTL:PT1H
BEGIN:VTIMEZONE
TZID:UTC
BEGIN:STANDARD
TZOFFSETFROM:+0000
TZOFFSETTO:+0000
TZNAME:UTC
DTSTART:20220101T000000
END:STANDARD
END:VTIMEZONE
BEGIN:VEVENT
DTSTART;TZID=UTC:20231007T200000
DTEND;TZID=UTC:20231007T220000
DTSTAMP:20260421T220417
CREATED:20231002T170244Z
LAST-MODIFIED:20231002T170244Z
UID:10000484-1696708800-1696716000@vibrissabeer.com
SUMMARY:Live Music Winchester - Ryan Thomas
DESCRIPTION:Ryan Thomas is a local singer-songwriter who has been active in the Winchester-area performing community for several years and was the vocalist for the Apple Blossom’s Got Talent Contest winner in 2019. Along with his all-new band\, they bring an eclectic blend of rock\, country & blues\, creating a diverse and well-rounded sound.
URL:https://vibrissabeer.com/event/live-music-winchester-ryan-thomas-2/
LOCATION:Vibrissa Beer Winchester\, 10 North Kent Street\, Winchester\, VA\, 22601\, United States
CATEGORIES:Winchester
ATTACH;FMTTYPE=image/jpeg:https://vibrissabeer.com/wp-content/uploads/2023/05/ryanthomasacousticphoto.jpg
ORGANIZER;CN="Vibrissa Beer":MAILTO:info@vibrissabeer.com
END:VEVENT
END:VCALENDAR