BEGIN:VCALENDAR
VERSION:2.0
PRODID:-//Vibrissa Beer - ECPv6.15.20//NONSGML v1.0//EN
CALSCALE:GREGORIAN
METHOD:PUBLISH
X-ORIGINAL-URL:https://vibrissabeer.com
X-WR-CALDESC:Events for Vibrissa Beer
REFRESH-INTERVAL;VALUE=DURATION:PT1H
X-Robots-Tag:noindex
X-PUBLISHED-TTL:PT1H
BEGIN:VTIMEZONE
TZID:UTC
BEGIN:STANDARD
TZOFFSETFROM:+0000
TZOFFSETTO:+0000
TZNAME:UTC
DTSTART:20220101T000000
END:STANDARD
END:VTIMEZONE
BEGIN:VEVENT
DTSTART;TZID=UTC:20230818T190000
DTEND;TZID=UTC:20230818T210000
DTSTAMP:20260421T203829
CREATED:20230811T171014Z
LAST-MODIFIED:20230811T171043Z
UID:10000473-1692385200-1692392400@vibrissabeer.com
SUMMARY:Live Music Winchester - Brennan Edwards
DESCRIPTION:Brennan is a local musician from the Shenandoah Valley. Playing a variety of genres from bluegrass\, folk\, alternative\, and more. Some of his artist influencers include Tyler Childers\, Hank Williams\, Red Hot Chili Peppers and so many more! Brennan is making his way in the surrounding area as he was recently nominated in the Winchester Star for ‘Best Local Music Performer” amongst other great artists in the area.
URL:https://vibrissabeer.com/event/live-music-winchester-brennan-edwards/
LOCATION:Vibrissa Beer Winchester\, 10 North Kent Street\, Winchester\, VA\, 22601\, United States
CATEGORIES:Winchester
ATTACH;FMTTYPE=image/jpeg:https://vibrissabeer.com/wp-content/uploads/2023/08/brennanedwardsacousticphoto.jpg
ORGANIZER;CN="Vibrissa Beer":MAILTO:info@vibrissabeer.com
END:VEVENT
END:VCALENDAR